BEGIN:VCALENDAR
VERSION:2.0
PRODID:-//30th Walthamstow Scout Group - ECPv6.2.7//NONSGML v1.0//EN
CALSCALE:GREGORIAN
METHOD:PUBLISH
X-WR-CALNAME:30th Walthamstow Scout Group
X-ORIGINAL-URL:https://www.30thwalthamstow.org.uk
X-WR-CALDESC:Events for 30th Walthamstow Scout Group
REFRESH-INTERVAL;VALUE=DURATION:PT1H
X-Robots-Tag:noindex
X-PUBLISHED-TTL:PT1H
BEGIN:VTIMEZONE
TZID:Europe/London
BEGIN:DAYLIGHT
TZOFFSETFROM:+0000
TZOFFSETTO:+0100
TZNAME:BST
DTSTART:20230326T010000
END:DAYLIGHT
BEGIN:STANDARD
TZOFFSETFROM:+0100
TZOFFSETTO:+0000
TZNAME:GMT
DTSTART:20231029T010000
END:STANDARD
BEGIN:DAYLIGHT
TZOFFSETFROM:+0000
TZOFFSETTO:+0100
TZNAME:BST
DTSTART:20240331T010000
END:DAYLIGHT
BEGIN:STANDARD
TZOFFSETFROM:+0100
TZOFFSETTO:+0000
TZNAME:GMT
DTSTART:20241027T010000
END:STANDARD
BEGIN:DAYLIGHT
TZOFFSETFROM:+0000
TZOFFSETTO:+0100
TZNAME:BST
DTSTART:20250330T010000
END:DAYLIGHT
BEGIN:STANDARD
TZOFFSETFROM:+0100
TZOFFSETTO:+0000
TZNAME:GMT
DTSTART:20251026T010000
END:STANDARD
END:VTIMEZONE
BEGIN:VEVENT
DTSTART;TZID=Europe/London:20250217T103000
DTEND;TZID=Europe/London:20250220T133000
DTSTAMP:20260422T232610
CREATED:20250202T105828Z
LAST-MODIFIED:20250202T105828Z
UID:946-1739788200-1740058200@www.30thwalthamstow.org.uk
SUMMARY:Lea Valley Ice Skating - FREE
DESCRIPTION:Ice skating session during February half term for Cubs\, Boys Scouts and Girls Scouts. \nMonday 17th February for the Girls scouts from 10:40 to 13:15 pm \nWednesday 19th February for Cubs from 11:40 to 13:13 pm \nThursday 20th February for Boys Scouts from 11:40 to 13:15 pm. \n 
URL:https://www.30thwalthamstow.org.uk/event/lea-valley-ice-skating-free/
LOCATION:Lee Valley Ice Centre\, Lea Bridge Rd\, London\, E10 7QL\, United Kingdom
ORGANIZER;CN="30th Walthamstow Scout Group":MAILTO:beavers@30thwalthamstow.org.uk
END:VEVENT
BEGIN:VEVENT
DTSTART;TZID=Europe/London:20250215T100000
DTEND;TZID=Europe/London:20250215T140000
DTSTAMP:20260422T232610
CREATED:20250202T103321Z
LAST-MODIFIED:20250202T103321Z
UID:941-1739613600-1739628000@www.30thwalthamstow.org.uk
SUMMARY:Beavers Sealife Adventure Trip
DESCRIPTION:Beavers sealife adventure trip\, Saturday 15th February\, will confirm arrival and pick up time. (Likely from 10:30am to 2pm.) Address is on the flyer. If you want your child to attend please add their name below. We might have 13 spaces on a mini bus to transport some of the children. Entry to the Zooquarium is free it will be paid for by the Group\, but for mini bus transport it will be £10 each. \n  \n \n  \n 
URL:https://www.30thwalthamstow.org.uk/event/beavers-sealife-adventure-trip/
LOCATION:Romford
ORGANIZER;CN="30th Walthamstow Scout Group":MAILTO:beavers@30thwalthamstow.org.uk
END:VEVENT
BEGIN:VEVENT
DTSTART;TZID=Europe/London:20250102T100000
DTEND;TZID=Europe/London:20250201T160000
DTSTAMP:20260422T232610
CREATED:20250202T101632Z
LAST-MODIFIED:20250202T101632Z
UID:900-1735812000-1738425600@www.30thwalthamstow.org.uk
SUMMARY:Mince Pie Rally 2025
DESCRIPTION:Funtimes at the Waltham Forest District Mince Pie Rally\, an annual craft activity day mixed with team challenges saw Cubs competing for a 38 year old trophy!
URL:https://www.30thwalthamstow.org.uk/event/mince-pie-rally-2025/
LOCATION:Gilwell Park\, Chingford\, London\, E4 7QW\, United Kingdom
ORGANIZER;CN="Waltham Forest District Scouts":MAILTO:https://www.wf-scouts.org.uk/
END:VEVENT
BEGIN:VEVENT
DTSTART;TZID=Europe/London:20230708T110000
DTEND;TZID=Europe/London:20230708T140000
DTSTAMP:20260422T232610
CREATED:20230520T204108Z
LAST-MODIFIED:20230520T204108Z
UID:220-1688814000-1688824800@www.30thwalthamstow.org.uk
SUMMARY:Master At Arms Competition
DESCRIPTION:
URL:https://www.30thwalthamstow.org.uk/event/master-at-arms-competition/
LOCATION:23 Chingford Scout Hall\, Bailey Close\, Chingford\, London\, E4 9HG\, United Kingdom
END:VEVENT
BEGIN:VEVENT
DTSTART;TZID=Europe/London:20230702T130000
DTEND;TZID=Europe/London:20230702T160000
DTSTAMP:20260422T232610
CREATED:20230520T204001Z
LAST-MODIFIED:20230520T204001Z
UID:218-1688302800-1688313600@www.30thwalthamstow.org.uk
SUMMARY:Master At Arms Practice Session 2
DESCRIPTION:
URL:https://www.30thwalthamstow.org.uk/event/master-at-arms-practice-session-2/
LOCATION:23 Chingford Scout Hall\, Bailey Close\, Chingford\, London\, E4 9HG\, United Kingdom
END:VEVENT
BEGIN:VEVENT
DTSTART;TZID=Europe/London:20230625T130000
DTEND;TZID=Europe/London:20230625T160000
DTSTAMP:20260422T232610
CREATED:20230520T203717Z
LAST-MODIFIED:20230520T203913Z
UID:214-1687698000-1687708800@www.30thwalthamstow.org.uk
SUMMARY:Master At Arms Practice Session 1
DESCRIPTION:
URL:https://www.30thwalthamstow.org.uk/event/master-at-arms-practice-session/
LOCATION:23 Chingford Scout Hall\, Bailey Close\, Chingford\, London\, E4 9HG\, United Kingdom
END:VEVENT
BEGIN:VEVENT
DTSTART;TZID=Europe/London:20230616T160000
DTEND;TZID=Europe/London:20230618T140000
DTSTAMP:20260422T232610
CREATED:20230520T184745Z
LAST-MODIFIED:20230520T204153Z
UID:89-1686931200-1687096800@www.30thwalthamstow.org.uk
SUMMARY:District Summer Camp
DESCRIPTION:
URL:https://www.30thwalthamstow.org.uk/event/district-summer-camp/
LOCATION:Gilwell Park\, Chingford\, London\, E4 7QW\, United Kingdom
ORGANIZER;CN="Waltham Forest District Scouts":MAILTO:https://www.wf-scouts.org.uk/
END:VEVENT
BEGIN:VEVENT
DTSTART;TZID=Europe/London:20230520T110000
DTEND;TZID=Europe/London:20230520T150000
DTSTAMP:20260422T232610
CREATED:20230520T201855Z
LAST-MODIFIED:20230520T202222Z
UID:209-1684580400-1684594800@www.30thwalthamstow.org.uk
SUMMARY:Tuff Mudder
DESCRIPTION:
URL:https://www.30thwalthamstow.org.uk/event/tuff-mudder/
LOCATION:Hargreaves Campsite\, Hainault Road\, Romford\, RM6 5SR
END:VEVENT
END:VCALENDAR