BEGIN:VCALENDAR
VERSION:2.0
PRODID:-//30th Walthamstow Scout Group - ECPv6.2.7//NONSGML v1.0//EN
CALSCALE:GREGORIAN
METHOD:PUBLISH
X-ORIGINAL-URL:https://www.30thwalthamstow.org.uk
X-WR-CALDESC:Events for 30th Walthamstow Scout Group
REFRESH-INTERVAL;VALUE=DURATION:PT1H
X-Robots-Tag:noindex
X-PUBLISHED-TTL:PT1H
BEGIN:VTIMEZONE
TZID:Europe/London
BEGIN:DAYLIGHT
TZOFFSETFROM:+0000
TZOFFSETTO:+0100
TZNAME:BST
DTSTART:20250330T010000
END:DAYLIGHT
BEGIN:STANDARD
TZOFFSETFROM:+0100
TZOFFSETTO:+0000
TZNAME:GMT
DTSTART:20251026T010000
END:STANDARD
END:VTIMEZONE
BEGIN:VEVENT
DTSTART;TZID=Europe/London:20250517T100000
DTEND;TZID=Europe/London:20250517T160000
DTSTAMP:20260422T215025
CREATED:20250202T110431Z
LAST-MODIFIED:20250202T110431Z
UID:950-1747476000-1747497600@www.30thwalthamstow.org.uk
SUMMARY:Tuff Mudder 2025
DESCRIPTION:We embraced the mud\, conquered challenging obstacles\, and built lifelong memories at the Scouts Tuff Mudder 2025! \nThis thrilling event\, held at Hargreaves on 17th May\, saw Scouts of all ages testing their endurance\, teamwork\, and resilience in an action-packed day of fun and adventure. Participants navigated through a series of exciting and demanding courses\, from muddy trenches to obstacles. \nWhether they were seasoned Tuff Mudders or first-time adventurers\, everyone experienced excitement\, camaraderie\, and a true test of spirit. Don’t miss our gallery of unforgettable moments – relive the muddy fun today!
URL:https://www.30thwalthamstow.org.uk/event/tuff-mudder-2025/
LOCATION:Hargreaves Campsite\, Hainault Road\, Romford\, RM6 5SR
ORGANIZER;CN="Waltham Forest District Scouts":MAILTO:https://www.wf-scouts.org.uk/
END:VEVENT
END:VCALENDAR